BEGIN:VCALENDAR
VERSION:2.0
PRODID:-//wp-events-plugin.com//7.2.3.1//EN
BEGIN:VEVENT
UID:119@christianraetsch.de
DTSTART;TZID=Europe/Berlin:20240827T000000
DTEND;TZID=Europe/Berlin:20240827T000000
DTSTAMP:20250628T160030Z
URL:https://christianraetsch.de/events/wie-man-agenturen-positionieren-kan
 n/
SUMMARY:Wie man Agenturen positionieren kann
DESCRIPTION:\n\nGWA Regiotreffen West – AgenTour im Westen \nBBDO und der
  Case EON mit Christian Rätsch\n\n\n\n\n\nDie Region Westen lädt in dies
 em Jahr zur „AgenTour im Westen“ ein\, einer spannenden Veranstaltungs
 reihe mit Besuchen und Austausch bei verschiedenen Agenturen vor Ort. Ende
  August machen wir Halt bei BBDO in Düsseldorf auf der Königsallee.\n\nC
 hristian Rätsch von BBDO wird uns spannende Einblicke in den Case EON geb
 en und seine Erfahrungen teilen. Im Anschluss daran bleibt\, wie immer\, v
 iel Raum für gemeinsamen Austausch und Networking.\n\nModeration: GWA Vor
 stand Jörg Müller-Dünow (markenzeichen)\n\nLink zur Veranstaltung\n\n\n
ATTACH;FMTTYPE=image/jpeg:https://christianraetsch.de/wp-content/uploads/2
 017/06/gwa.png
LOCATION:BBDO\, Königsallee 92\, Düsseldorf\, 40212\, Deutschland
GEO:51.219652;6.779529
X-APPLE-STRUCTURED-LOCATION;VALUE=URI;X-ADDRESS=Königsallee 92\, Düsseldo
 rf\, 40212\, Deutschland;X-APPLE-RADIUS=100;X-TITLE=BBDO:geo:51.219652,6.7
 79529
END:VEVENT
BEGIN:VTIMEZONE
TZID:Europe/Berlin
X-LIC-LOCATION:Europe/Berlin
BEGIN:DAYLIGHT
DTSTART:20240331T030000
TZOFFSETFROM:+0100
TZOFFSETTO:+0200
TZNAME:CEST
END:DAYLIGHT
END:VTIMEZONE
END:VCALENDAR