BEGIN:VCALENDAR
VERSION:2.0
PRODID:-//wp-events-plugin.com//7.2.3.1//EN
BEGIN:VEVENT
UID:68@christianraetsch.de
DTSTART;TZID=Europe/Berlin:20150324T000000
DTEND;TZID=Europe/Berlin:20150324T000000
DTSTAMP:20230307T150813Z
URL:https://christianraetsch.de/events/webvideocon-2015/
SUMMARY:WebvideoCon 2015
DESCRIPTION:Im Rahmen von Digital Cologne findet am 24.03.2015 das einzigar
 tige Event von netspirits mit Unterstützung von YouTube statt. Bei der We
 bvideoCon 2015 erwarten Sie erstklassige Speaker unter anderem von YouTube
 \, Saatchi &amp\; Saatchi\, UFA LAB und netspirits. Sie lernen direkt von 
 den kreativen Experten wie Sie erfolgreiches Video Marketing auch für Ihr
  Unternehmen einsetzen können. Erfahren Sie mehr über Potenziale und die
  zunehmende Bedeutung von Online Video Marketing. Die WebvideoCon 2015 wir
 d geprägt von geballtem Praxiswissen\, Tipps und rechtlichen Aspekten run
 d um die Online-Kommunikation mit Bewegtbild. Sprechen Sie direkt mit Expe
 rten aus der Branche und stellen Sie Ihre Fragen. Alle Speaker finden Sie 
 hier.
ATTACH;FMTTYPE=image/jpeg:https://christianraetsch.de/wp-content/uploads/2
 017/06/Webvideocon-logo.jpg
END:VEVENT
BEGIN:VTIMEZONE
TZID:Europe/Berlin
X-LIC-LOCATION:Europe/Berlin
BEGIN:STANDARD
DTSTART:20141026T020000
TZOFFSETFROM:+0200
TZOFFSETTO:+0100
TZNAME:CET
END:STANDARD
END:VTIMEZONE
END:VCALENDAR