BEGIN:VCALENDAR
VERSION:2.0
PRODID:-//wp-events-plugin.com//7.2.3.1//EN
BEGIN:VEVENT
UID:23@christianraetsch.de
DTSTART;TZID=Europe/Berlin:20171025T000000
DTEND;TZID=Europe/Berlin:20171026T000000
DTSTAMP:20230307T150919Z
URL:https://christianraetsch.de/events/textilwirtschaftdeutscher-modehande
 lskongress/
SUMMARY:TextilWirtschaft/Deutscher Modehandelskongress
DESCRIPTION:„Digitalisierung – alles andere als eine Mode“ 
ATTACH;FMTTYPE=image/jpeg:https://christianraetsch.de/wp-content/uploads/2
 017/07/dfv_CG_Logo.jpg
END:VEVENT
BEGIN:VTIMEZONE
TZID:Europe/Berlin
X-LIC-LOCATION:Europe/Berlin
BEGIN:DAYLIGHT
DTSTART:20170326T030000
TZOFFSETFROM:+0100
TZOFFSETTO:+0200
TZNAME:CEST
END:DAYLIGHT
END:VTIMEZONE
END:VCALENDAR