BEGIN:VCALENDAR
VERSION:2.0
PRODID:-//wp-events-plugin.com//7.2.3.1//EN
BEGIN:VEVENT
UID:38@christianraetsch.de
DTSTART;TZID=Europe/Berlin:20130820T000000
DTEND;TZID=Europe/Berlin:20130820T000000
DTSTAMP:20230307T150737Z
URL:https://christianraetsch.de/events/social-media-summit/
SUMMARY:Social Media Summit
DESCRIPTION:David gegen Goliath – Wie der Mittelstand den Konzernen die B
 utter vom Brot nehmen kann\nEin Vortrag voller Fallbeispiele von ganz klei
 nen Unternehmen und einem großen Konzern\n\n 	Social Media wird die Mär
 kte von morgen verändern\n 	Jetzt ist die Zeit\, seine Position in den so
 zialen Medien zu sichern\n 	Der Mittelstand hat die Chance\, mit Konzernen
  auf Augenhöhe um die Gunst der Kunden zu buhlen\n
ATTACH;FMTTYPE=image/jpeg:https://christianraetsch.de/wp-content/uploads/2
 017/05/4-Social-Media-Summit.jpg
END:VEVENT
BEGIN:VTIMEZONE
TZID:Europe/Berlin
X-LIC-LOCATION:Europe/Berlin
BEGIN:DAYLIGHT
DTSTART:20130331T030000
TZOFFSETFROM:+0100
TZOFFSETTO:+0200
TZNAME:CEST
END:DAYLIGHT
END:VTIMEZONE
END:VCALENDAR