BEGIN:VCALENDAR
VERSION:2.0
PRODID:-//wp-events-plugin.com//7.2.3.1//EN
BEGIN:VEVENT
UID:4@christianraetsch.de
DTSTART;TZID=Europe/Berlin:20120729T000000
DTEND;TZID=Europe/Berlin:20120729T000000
DTSTAMP:20230307T150737Z
URL:https://christianraetsch.de/events/social-media-kongress/
SUMMARY:Social Media Kongress
DESCRIPTION:Social Media ist mehr als Facebook\, neue Chance für den Mitte
 lstand
ATTACH;FMTTYPE=image/jpeg:https://christianraetsch.de/wp-content/uploads/2
 017/05/Social-Media-Kongress-2012-Logo.jpg
END:VEVENT
BEGIN:VTIMEZONE
TZID:Europe/Berlin
X-LIC-LOCATION:Europe/Berlin
BEGIN:DAYLIGHT
DTSTART:20120325T030000
TZOFFSETFROM:+0100
TZOFFSETTO:+0200
TZNAME:CEST
END:DAYLIGHT
END:VTIMEZONE
END:VCALENDAR