BEGIN:VCALENDAR
VERSION:2.0
PRODID:-//wp-events-plugin.com//7.2.3.1//EN
BEGIN:VEVENT
UID:73@christianraetsch.de
DTSTART;TZID=Europe/Berlin:20150625T000000
DTEND;TZID=Europe/Berlin:20150625T000000
DTSTAMP:20230307T150813Z
URL:https://christianraetsch.de/events/mobile-social-realtime-content-mark
 eting-2020/
SUMMARY:Mobile\, Social\, Realtime – Content Marketing 2020
DESCRIPTION:Die Akademie zählt mit rund 3.700 Teilnehmern pro Jahr zu den 
 führenden Medienakademien in Deutschland. Mit ihrem Seminar- und Tagungsp
 rogramm hat sie sich als zentraler Ansprechpartner für qualifizierte Weit
 erbildung rund um Medienmanagement und die Entwicklung\, Produktion und Ve
 rmarktung von Print- und digitalen Medien etabliert. Der fundierten Publis
 hing-Expertise über alle Kanäle – ob Print\, digital oder mobil – un
 d der umfassenden Zielgruppenansprache weit über den (herstellenden) Buch
 handel hinaus trägt die Akademie künftig auch durch einen neuen Namen Re
 chnung.
ATTACH;FMTTYPE=image/jpeg:https://christianraetsch.de/wp-content/uploads/2
 017/06/Akademie_der_Deutschen_Medien-Logo_2014.png
END:VEVENT
BEGIN:VTIMEZONE
TZID:Europe/Berlin
X-LIC-LOCATION:Europe/Berlin
BEGIN:DAYLIGHT
DTSTART:20150329T030000
TZOFFSETFROM:+0100
TZOFFSETTO:+0200
TZNAME:CEST
END:DAYLIGHT
END:VTIMEZONE
END:VCALENDAR