BEGIN:VCALENDAR
VERSION:2.0
PRODID:-//wp-events-plugin.com//7.2.3.1//EN
BEGIN:VEVENT
UID:71@christianraetsch.de
DTSTART;TZID=Europe/Berlin:20150511T000000
DTEND;TZID=Europe/Berlin:20150511T000000
DTSTAMP:20230307T150813Z
URL:https://christianraetsch.de/events/mobikon-meet-the-mobile-experts/
SUMMARY:mobikon – Meet the mobile experts!
DESCRIPTION:Die Mobikon stellt alle Facetten der Marktentwicklung im Mobile
 -Business dar und zeigt sie strukturiert in den Mobile-Angebotsbereichen I
 nternet &amp\; Apps\, Marketing und Advertising\, Commerce &amp\; Payment\
 , Enterprise &amp\; Solutions\, Security &amp\; Big Data und Internet of T
 hings &amp\; Wearables. Christian Rätsch wird als Keynote-Speaker auftret
 en.
ATTACH;FMTTYPE=image/jpeg:https://christianraetsch.de/wp-content/uploads/2
 017/06/mobikon.png
END:VEVENT
BEGIN:VTIMEZONE
TZID:Europe/Berlin
X-LIC-LOCATION:Europe/Berlin
BEGIN:DAYLIGHT
DTSTART:20150329T030000
TZOFFSETFROM:+0100
TZOFFSETTO:+0200
TZNAME:CEST
END:DAYLIGHT
END:VTIMEZONE
END:VCALENDAR