BEGIN:VCALENDAR
VERSION:2.0
PRODID:-//wp-events-plugin.com//7.2.3.1//EN
BEGIN:VEVENT
UID:48@christianraetsch.de
DTSTART;TZID=Europe/Berlin:20140306T000000
DTEND;TZID=Europe/Berlin:20140306T000000
DTSTAMP:20230307T150754Z
URL:https://christianraetsch.de/events/marketing-und-media-meeting/
SUMMARY:Marketing- und Media-Meeting
DESCRIPTION:Die digitale Geschäftswelt – ein Modetrend oder wirtschaftli
 che Notwendigkeit?
ATTACH;FMTTYPE=image/jpeg:https://christianraetsch.de/wp-content/uploads/2
 017/06/BVMW.jpg
END:VEVENT
BEGIN:VTIMEZONE
TZID:Europe/Berlin
X-LIC-LOCATION:Europe/Berlin
BEGIN:STANDARD
DTSTART:20131027T020000
TZOFFSETFROM:+0200
TZOFFSETTO:+0100
TZNAME:CET
END:STANDARD
END:VTIMEZONE
END:VCALENDAR