BEGIN:VCALENDAR
VERSION:2.0
PRODID:-//wp-events-plugin.com//7.2.3.1//EN
BEGIN:VEVENT
UID:52@christianraetsch.de
DTSTART;TZID=Europe/Berlin:20140407T000000
DTEND;TZID=Europe/Berlin:20140407T000000
DTSTAMP:20230307T150754Z
URL:https://christianraetsch.de/events/marketing-club-frankfurt/
SUMMARY:Marketing Club Frankfurt
DESCRIPTION:Mobile Marketing – Wie erreiche ich meine Zielgruppe noch bes
 ser auf dem Handy?\nEine gemeinsame Veranstaltung des MobileMonday und d
 es Marketing Club Frankfurt. Vortrag Christian Rätsch: Meine Welt ist ei
 n Smartphone – Re-tail zum E-tail Marketing ist digital geworden. Die Bu
 dgets werden stärker von klassischen Kanälen auf digitale Anwendungen un
 d Kommunikation umgeschichtet. Und auch ganze Branchen verändern sich rad
 ikal durch digitale Angebote. So sind sicherlich Verlage und der Einzelhan
 del die Branchen\, die am stärksten unter einem Onlinedruck stehen. Chris
 tian Rätsch wird daher in seinem Vortrag einen Überblick geben\, welche 
 Trends das Marketing zukünftig brachenübergreifend verändern werden und
  er wird am Beispiel Handel zeigen\, wie die Digitalisierung weniger eine 
 Gefahr\, als mehr zu einer Chance werden kann.
ATTACH;FMTTYPE=image/jpeg:https://christianraetsch.de/wp-content/uploads/2
 017/06/marketingclub-1.png
END:VEVENT
BEGIN:VTIMEZONE
TZID:Europe/Berlin
X-LIC-LOCATION:Europe/Berlin
BEGIN:DAYLIGHT
DTSTART:20140330T030000
TZOFFSETFROM:+0100
TZOFFSETTO:+0200
TZNAME:CEST
END:DAYLIGHT
END:VTIMEZONE
END:VCALENDAR