BEGIN:VCALENDAR
VERSION:2.0
PRODID:-//wp-events-plugin.com//7.2.3.1//EN
BEGIN:VEVENT
UID:51@christianraetsch.de
DTSTART;TZID=Europe/Berlin:20140403T000000
DTEND;TZID=Europe/Berlin:20140403T000000
DTSTAMP:20230307T150754Z
URL:https://christianraetsch.de/events/golf-fachkongress-2014-bundesverban
 d-golfanlagen/
SUMMARY:Golf Fachkongress 2014 Bundesverband Golfanlagen
DESCRIPTION:Der digitale Golfer – Strafschlag für diejenigen\, die die Z
 eichen der Zeit nicht erkennen
ATTACH;FMTTYPE=image/jpeg:https://christianraetsch.de/wp-content/uploads/2
 017/06/BVGA-Neu.png
END:VEVENT
BEGIN:VTIMEZONE
TZID:Europe/Berlin
X-LIC-LOCATION:Europe/Berlin
BEGIN:DAYLIGHT
DTSTART:20140330T030000
TZOFFSETFROM:+0100
TZOFFSETTO:+0200
TZNAME:CEST
END:DAYLIGHT
END:VTIMEZONE
END:VCALENDAR