BEGIN:VCALENDAR
VERSION:2.0
PRODID:-//wp-events-plugin.com//7.2.3.1//EN
BEGIN:VEVENT
UID:108@christianraetsch.de
DTSTART;TZID=Europe/Berlin:20170518T000000
DTEND;TZID=Europe/Berlin:20170518T000000
DTSTAMP:20230307T150919Z
URL:https://christianraetsch.de/events/finanztag-mittelstand-2017/
SUMMARY:Finanztag Mittelstand 2017
DESCRIPTION:Der diesjährige Finanztag Mittelstand zeigt Ihnen Wege und Mö
 glichkeiten auf\, mit denen Sie auf die derzeitigen rasanten Veränderunge
 n reagieren können. Dabei stehen speziell Herausforderungen und Lösungen
  für mittelständische Unternehmen im Vordergrund. Aktuelle Keynotes\, sp
 annende Round Table und Gespräche mit teilnehmenden Kompetenzpartnern sor
 gen für eine lebendige und gewinnbringende Struktur. Durch eine personali
 sierte Agenda stehen Ihre Themen und Bedürfnisse im Vordergrund. Christia
 n Rätsch wird als Referent mit seinem Vortrag „Digitale Kundenbindung 
 – Kosten– oder Anlagestrategie?“ an der Veranstaltung teilnehmen.
ATTACH;FMTTYPE=image/jpeg:https://christianraetsch.de/wp-content/uploads/2
 017/06/dialogum-logo.jpg
END:VEVENT
BEGIN:VTIMEZONE
TZID:Europe/Berlin
X-LIC-LOCATION:Europe/Berlin
BEGIN:DAYLIGHT
DTSTART:20170326T030000
TZOFFSETFROM:+0100
TZOFFSETTO:+0200
TZNAME:CEST
END:DAYLIGHT
END:VTIMEZONE
END:VCALENDAR