BEGIN:VCALENDAR
VERSION:2.0
PRODID:-//wp-events-plugin.com//7.2.3.1//EN
BEGIN:VEVENT
UID:69@christianraetsch.de
DTSTART;TZID=Europe/Berlin:20150324T000000
DTEND;TZID=Europe/Berlin:20150324T000000
DTSTAMP:20230307T150813Z
URL:https://christianraetsch.de/events/es-muss-ein-klick-durch-deutschland
 -gehen/
SUMMARY:Es muss ein „Klick“ durch Deutschland gehen!
DESCRIPTION:Der Vorstand des Industrie-Clubs bittet Mitglieder\, Gäste und
  erwachsene Jugend zu einer Podiumsdiskussion mit Imbiss in den Industrie
 -Club.\n\n 	Thema Es muss ein „Klick“ durch Deutschland gehen! Digital
 es Wirtschaftswunder – „Made in Germany“ digital neu denken.\n\nDisk
 ussionspartner\n\n 	Christopf Keese\, Journalist und Publizist\n 	Andreas
  Harting\, Managing Director und Co-Founder der Deloitte Digital GmbH\n 
 	Prof. Dr. Daniel Zimmer\, Vorsitzender der Monopolkommission\n\nChristia
 n Rätsch moderiert diese Veranstaltung.
ATTACH;FMTTYPE=image/jpeg:https://christianraetsch.de/wp-content/uploads/2
 017/06/Industrieclub-Duesseldorf.png
END:VEVENT
BEGIN:VTIMEZONE
TZID:Europe/Berlin
X-LIC-LOCATION:Europe/Berlin
BEGIN:STANDARD
DTSTART:20141026T020000
TZOFFSETFROM:+0200
TZOFFSETTO:+0100
TZNAME:CET
END:STANDARD
END:VTIMEZONE
END:VCALENDAR