BEGIN:VCALENDAR
VERSION:2.0
PRODID:-//wp-events-plugin.com//7.2.3.1//EN
BEGIN:VEVENT
UID:36@christianraetsch.de
DTSTART;TZID=Europe/Berlin:20130514T000000
DTEND;TZID=Europe/Berlin:20130514T000000
DTSTAMP:20230307T150737Z
URL:https://christianraetsch.de/events/deutscher-online-hotel-kongress/
SUMMARY:Deutscher Online-Hotel-Kongress
DESCRIPTION:Wie verändert die Digitalisierung die Beziehung zum Hotelgast?
 \n\n 	Wie hat die Digitalisierung unsere Mediennutzung verändert?\n 	Wie 
 verändert sich die Beziehung zum Kunden (vor\, während und nach dem Auf
 enthalt) durch digitale Kommunikationslösungen?\n 	Wohin geht die Reise 
 – Ausstattung eines modernen Hotels in 15 Jahren\n
ATTACH;FMTTYPE=image/jpeg:https://christianraetsch.de/wp-content/uploads/2
 017/06/Deutscher-Online-Hotel-Kongress.jpg
END:VEVENT
BEGIN:VTIMEZONE
TZID:Europe/Berlin
X-LIC-LOCATION:Europe/Berlin
BEGIN:DAYLIGHT
DTSTART:20130331T030000
TZOFFSETFROM:+0100
TZOFFSETTO:+0200
TZNAME:CEST
END:DAYLIGHT
END:VTIMEZONE
END:VCALENDAR