BEGIN:VCALENDAR
VERSION:2.0
PRODID:-//wp-events-plugin.com//7.2.3.1//EN
BEGIN:VEVENT
UID:67@christianraetsch.de
DTSTART;TZID=Europe/Berlin:20150319T000000
DTEND;TZID=Europe/Berlin:20150320T000000
DTSTAMP:20230307T150813Z
URL:https://christianraetsch.de/events/deutscher-dialog-summit-2015/
SUMMARY:Deutscher Dialog Summit 2015
DESCRIPTION:Themen\n\n 	Dialog vor neuen Herausforderungen – Mehr Erfolg 
 durch integrierte Dialoge\n 	E-Mail-Marketing – Status Quo? Neue Trends 
 und wichtige Erfolgsfaktoren\n 	Social Media Monitoring – Die Dialogkan
 äle auf dem Prüfstand\n 	Mobile Marketing 2015 – Apps als Einstieg in 
 den Kundendialog\n 	Blogmarketing – Wie können Blogs zu verkaufsförder
 nden Dialogen führen?\n 	Welche Konsequenzen hat der Siegeszug des mobile
 n Internets für das Customer Relationship Management?\n\n14.30 Uhr Impuls
 vortrag | Christian Rätsch\n\n 	Inhaltlich verknüpft\, zeitlich koordin
 iert\, kanalübergreifend messbar – Der crossmediale Dialog als Heraus
 forderung und Erfolgsstory\n 	Lohnen sich crossmediale Kampagnen auch für
  kleinere Unternehmen?\n
ATTACH;FMTTYPE=image/jpeg:https://christianraetsch.de/wp-content/uploads/2
 017/06/Deuter-Dialog-Summit-2015.jpg
END:VEVENT
BEGIN:VTIMEZONE
TZID:Europe/Berlin
X-LIC-LOCATION:Europe/Berlin
BEGIN:STANDARD
DTSTART:20141026T020000
TZOFFSETFROM:+0200
TZOFFSETTO:+0100
TZNAME:CET
END:STANDARD
END:VTIMEZONE
END:VCALENDAR