BEGIN:VCALENDAR
VERSION:2.0
PRODID:-//wp-events-plugin.com//7.2.3.1//EN
BEGIN:VEVENT
UID:33@christianraetsch.de
DTSTART;TZID=Europe/Berlin:20130411T000000
DTEND;TZID=Europe/Berlin:20130411T000000
DTSTAMP:20230307T150737Z
URL:https://christianraetsch.de/events/convent-mittelstandstage-rheinland-
 pfalz/
SUMMARY:Convent (Mittelstandstage Rheinland-Pfalz)
DESCRIPTION:Am 11. April 2013 lädt das rheinland-pfälzische Wirtschaftsm
 inisterium erneut Vertreter mittelständischer Unternehmen zum Mittelstand
 stag ein. Im ZDF-Konferenzzentrum in Mainz-Lerchenberg treffen Experten un
 d Unternehmer zu informativen Diskussionsrunden und gegenseitigem Austausc
 h zusammen. In den vergangenen Jahren nahmen rund 500 Personen teil und n
 utzten die Gelegenheit\, neue Kontakte zu knüpfen und sich über wirtscha
 ftliche Entwicklungen zu informieren. Zahlreiche Themenforen greifen Belan
 ge auf\, die für die Unternehmen zum Tagesgeschäft gehören: Finanzierun
 g und Fördermöglichkeiten\, Gründung und Unternehmensnachfolge\, Wachst
 um und Wettbewerbsfähigkeit. Wichtige Themen darüber hinaus sind insbeso
 ndere die Bewältigung der Energiewende sowie die Herausforderung des Dem
 ographischen Wandels.\nDer digitale Mittelstand\, Wachstum durch das Inter
 net\n\n 	Wie kann ich das Internet gewinnbringend für mein Unternehmen nu
 tzen?\n 	Wege zur optimalen Website: Die größten Schnitzer\, die wichtig
 sten Tipps\n
ATTACH;FMTTYPE=image/jpeg:https://christianraetsch.de/wp-content/uploads/2
 017/06/Mittelstandstag-Rheinland-Pfalz-Logo.jpg
END:VEVENT
BEGIN:VTIMEZONE
TZID:Europe/Berlin
X-LIC-LOCATION:Europe/Berlin
BEGIN:DAYLIGHT
DTSTART:20130331T030000
TZOFFSETFROM:+0100
TZOFFSETTO:+0200
TZNAME:CEST
END:DAYLIGHT
END:VTIMEZONE
END:VCALENDAR