BEGIN:VCALENDAR
VERSION:2.0
PRODID:-//wp-events-plugin.com//7.2.3.1//EN
BEGIN:VEVENT
UID:31@christianraetsch.de
DTSTART;TZID=Europe/Berlin:20130328T000000
DTEND;TZID=Europe/Berlin:20130328T000000
DTSTAMP:20230307T150737Z
URL:https://christianraetsch.de/events/cebit/
SUMMARY:CeBit
DESCRIPTION:Das Internet\, Chance für die keinen Unternehmen\n
ATTACH;FMTTYPE=image/jpeg:https://christianraetsch.de/wp-content/uploads/2
 017/06/Cebit.jpg
END:VEVENT
BEGIN:VTIMEZONE
TZID:Europe/Berlin
X-LIC-LOCATION:Europe/Berlin
BEGIN:STANDARD
DTSTART:20121028T020000
TZOFFSETFROM:+0200
TZOFFSETTO:+0100
TZNAME:CET
END:STANDARD
END:VTIMEZONE
END:VCALENDAR