BEGIN:VCALENDAR
VERSION:2.0
PRODID:-//wp-events-plugin.com//7.2.3.1//EN
BEGIN:VEVENT
UID:30@christianraetsch.de
DTSTART;TZID=Europe/Berlin:20130226T000000
DTEND;TZID=Europe/Berlin:20130226T000000
DTSTAMP:20230307T150737Z
URL:https://christianraetsch.de/events/antrieb-mittelstand-in-oberhausen/
SUMMARY:Antrieb Mittelstand in Oberhausen
DESCRIPTION:Das Internet dein Wachstumsmotor\nIn Workshops und praxisnahen 
 Themenforen informierten sich in Oberhausen Unternehmer kleiner und mittle
 rer Betriebe über Trends und Möglichkeiten des Internets. Zu der kostenl
 osen Veranstaltung hatte die neue Initiative „Antrieb Mittelstand“ ein
 geladen.  © Mittelstand-die-Macher.de
ATTACH;FMTTYPE=image/jpeg:https://christianraetsch.de/wp-content/uploads/2
 017/06/Antrieb-Mittelstand.de_.jpg
END:VEVENT
BEGIN:VTIMEZONE
TZID:Europe/Berlin
X-LIC-LOCATION:Europe/Berlin
BEGIN:STANDARD
DTSTART:20121028T020000
TZOFFSETFROM:+0200
TZOFFSETTO:+0100
TZNAME:CET
END:STANDARD
END:VTIMEZONE
END:VCALENDAR