BEGIN:VCALENDAR
VERSION:2.0
PRODID:-//wp-events-plugin.com//7.2.3.1//EN
BEGIN:VEVENT
UID:50@christianraetsch.de
DTSTART;TZID=Europe/Berlin:20140319T000000
DTEND;TZID=Europe/Berlin:20140320T000000
DTSTAMP:20230307T150754Z
URL:https://christianraetsch.de/events/6-deutscher-handelswerbe-gipfel/
SUMMARY:6. Deutscher Handelswerbe-Gipfel
DESCRIPTION:Weg vom Schweinebauch – Braucht der Handel mehr Marken-bzw. I
 magewerbung?\nBereits zum 6. Mal treffen sich in Zusammenarbeit mit HORIZ
 ONT\, TextilWirtschaft und Der Handel zahlreiche Experten der Branche und
  präsentieren unter dem Motto „Big Data vs. Bauchgefühl – Lassen sic
 h die beiden Welten erfolgreich miteinander verbinden?“ ihre erfolgreich
 en Strategien. Sie zeigen innovative Wege für die Entwicklung der erfolgr
 eichen Kundenansprache in der Handelskommunikation auf.   Themenschwerpun
 kte:\n\n 	Durch emotionale Kundenansprache zu Kundenbindung\n 	Emotionaler
  Mehrwert als Erfolgskriterium?\n 	Lassen sich datengestützte Kundenanspr
 ache und Markenbildung mittels Emotionen miteinander verbinden?\n
ATTACH;FMTTYPE=image/jpeg:https://christianraetsch.de/wp-content/uploads/2
 017/06/Handelswerbe-Gipfel.jpg
END:VEVENT
BEGIN:VTIMEZONE
TZID:Europe/Berlin
X-LIC-LOCATION:Europe/Berlin
BEGIN:STANDARD
DTSTART:20131027T020000
TZOFFSETFROM:+0200
TZOFFSETTO:+0100
TZNAME:CET
END:STANDARD
END:VTIMEZONE
END:VCALENDAR