BEGIN:VCALENDAR
VERSION:2.0
PRODID:-//wp-events-plugin.com//7.2.3.1//EN
BEGIN:VEVENT
UID:62@christianraetsch.de
DTSTART;TZID=Europe/Berlin:20141113T000000
DTEND;TZID=Europe/Berlin:20141113T000000
DTSTAMP:20230307T150754Z
URL:https://christianraetsch.de/events/19-owm-fachtagung/
SUMMARY:19. OWM Fachtagung
DESCRIPTION:Jedes Jahr im Herbst veranstaltet die OWM ihre Fachtagung –
  das Top-Event für Marketing- und Mediaentscheider. Die Fachtagung steht 
 sowohl in der Fachwelt als auch beim Publikum in hoher Gunst und bietet st
 ets Denkanstöße für die Branche. Thema 2014 Zwischen Hype und Realismus
 . Konsumentenansprache in einer Komplexen-Multi-Channel-Welt Vortrag Chris
 tian Rätsch: „Digitales Marketing – Trends und Herausforderungen“
ATTACH;FMTTYPE=image/jpeg:https://christianraetsch.de/wp-content/uploads/2
 017/06/OWM-Logo.jpg
END:VEVENT
BEGIN:VTIMEZONE
TZID:Europe/Berlin
X-LIC-LOCATION:Europe/Berlin
BEGIN:STANDARD
DTSTART:20141026T020000
TZOFFSETFROM:+0200
TZOFFSETTO:+0100
TZNAME:CET
END:STANDARD
END:VTIMEZONE
END:VCALENDAR