BEGIN:VCALENDAR
VERSION:2.0
PRODID:-//wp-events-plugin.com//7.2.3.1//EN
BEGIN:VEVENT
UID:72@christianraetsch.de
DTSTART;TZID=Europe/Berlin:20150519T000000
DTEND;TZID=Europe/Berlin:20150519T000000
DTSTAMP:20230307T150813Z
URL:https://christianraetsch.de/events/11-norddeutscher-unternehmertag/
SUMMARY:11. Norddeutscher Unternehmertag
DESCRIPTION:Der Norddeutsche Unternehmertag findet in 2015 bereits zum elft
 en Mal in Zusammenarbeit mit der Handelskammer Hamburg statt. Der Kongress
  richtet sich exklusiv an Gesellschafter\, Vorstände\, Geschäftsführer 
 und leitende Angestellte von mittelständischen Unternehmen. Berater und V
 ertreter von Banken\, Kanzleien etc. die nicht zu den Veranstaltungspartne
 rn gehören\, werden als Teilnehmer nicht zugelassen. In zahlreichen Plene
 n und Foren können sich die Besucher zu unterschiedlichen Themen informie
 ren. Außerdem wird es ausreichend Möglichkeiten zum persönlichen Austau
 sch und Netzwerken geben. Die Themenschwerpunkte der Foren sind in diesem
  Jahr u.a.\n\n 	Zusammenspiel der Kräfte bei Familienunternehmen – der 
 Dreiklang aus Familie\, Beirat und Management\n 	Gewährleistung beim Unte
 rnehmenskauf\n 	Betriebsprüfungsfälle in familiengeführten Unternehmen\
 n 	Compliance und Internationalisierung\n\nChristian Rätsch hält den Vor
 trag mit dem Titel\n\n 	„Werbung ist der Preis den Du zahlst\, wenn Du n
 icht kreativ bist. Mit digitaler Kommunikation an die Spitze.“\n\nDas ab
 schließende Veranstaltungsprogramm wird Mitte Februar als PDF-Download z
 ur Verfügung stehen.
ATTACH;FMTTYPE=image/jpeg:https://christianraetsch.de/wp-content/uploads/2
 017/06/11-Norddeutscher-Unternehmertag.jpg
END:VEVENT
BEGIN:VTIMEZONE
TZID:Europe/Berlin
X-LIC-LOCATION:Europe/Berlin
BEGIN:DAYLIGHT
DTSTART:20150329T030000
TZOFFSETFROM:+0100
TZOFFSETTO:+0200
TZNAME:CEST
END:DAYLIGHT
END:VTIMEZONE
END:VCALENDAR