BEGIN:VCALENDAR
VERSION:2.0
PRODID:-//wp-events-plugin.com//7.2.3.1//EN
BEGIN:VEVENT
UID:111@christianraetsch.de
DTSTART;TZID=Europe/Berlin:20170531T000000
DTEND;TZID=Europe/Berlin:20170531T000000
DTSTAMP:20230307T150919Z
URL:https://christianraetsch.de/events/10761/
SUMMARY:Add Talent
DESCRIPTION:In Zeiten des demografischen Wandels wird der Fachkräftemangel
  für die Kreativ- und Werbewirtschaft schon in naher Zukunft zu einem erf
 olgskritischen Faktor. Bereits heute beklagen Unternehmen\, Agenturen und 
 Branchenverbände einen Mangel an qualifiziertem Nachwuchs und Fachkräfte
 n. Mit der Digitalisierung verändert sich die Ausbildung junger Talente a
 n Hochschulen. Weiterbildung und lebenslanges Lernen werden immer wichtige
 r. Zugleich verändert sich das Anforderungsprofil an Professionals und de
 ren Selbstverständnis als Arbeitnehmer. Die kostenfreie Veranstaltung ist
  die Einladung zu einem offenen Gedankenaustausch zwischen Professionals\,
  Hochschulen und Studierenden. Sie richtet sich an Personaler in Agenturen
  und Unternehmen\, Hochschullehrer der Kreativbranche und Studierende.
ATTACH;FMTTYPE=image/jpeg:https://christianraetsch.de/wp-content/uploads/2
 017/06/HDM-1.jpg
END:VEVENT
BEGIN:VTIMEZONE
TZID:Europe/Berlin
X-LIC-LOCATION:Europe/Berlin
BEGIN:DAYLIGHT
DTSTART:20170326T030000
TZOFFSETFROM:+0100
TZOFFSETTO:+0200
TZNAME:CEST
END:DAYLIGHT
END:VTIMEZONE
END:VCALENDAR