BEGIN:VCALENDAR
VERSION:2.0
PRODID:-//wp-events-plugin.com//7.2.3.1//EN
BEGIN:VEVENT
UID:94@christianraetsch.de
DTSTART;TZID=Europe/Berlin:20161024T000000
DTEND;TZID=Europe/Berlin:20161024T000000
DTSTAMP:20230307T150826Z
URL:https://christianraetsch.de/events/10-enviam-energiekonvent-2016/
SUMMARY:10. enviaM-Energiekonvent | 2016
DESCRIPTION:„Smarte neue Welt – Wie real ist digital?“\nDie Digitalis
 ierung ist für viele Branchen ein historischer Umbruch. Sie verändert di
 e gesamte Industrie und somit auch die Energiewirtschaft und wird die zwei
 te Phase der Energiewende entscheidend prägen. Individuelle Produkte\, st
 ändige Verfügbarkeit\, unkomplizierte Kommunikation und ein hoher Komfor
 t – die Erwartungshaltung der Kunden an die digitalen Neuerungen ist hoc
 h. Welchen Mehrwert bringt sie tatsächlich für Geschäftskunden und Verb
 raucher? Wo sind die Grenzen für das\, was technisch möglich ist? Welche
 n Einfluss hat die Digitalisierung auf die Beziehung der Unternehmen zu ih
 ren Kunden? Über diese und weitere Fragen wollen wir mit Ihnen ins Gespr
 äch kommen. Den Impulsvortrag hält Marketing- und Digitalisierungsexpert
 e Christian Rätsch\, CEO von Saatchi &amp\; Saatchi Deutschland.
ATTACH;FMTTYPE=image/jpeg:https://christianraetsch.de/wp-content/uploads/2
 017/06/enviam-logo.jpg
END:VEVENT
BEGIN:VTIMEZONE
TZID:Europe/Berlin
X-LIC-LOCATION:Europe/Berlin
BEGIN:DAYLIGHT
DTSTART:20160327T030000
TZOFFSETFROM:+0100
TZOFFSETTO:+0200
TZNAME:CEST
END:DAYLIGHT
END:VTIMEZONE
END:VCALENDAR